BEGIN:VCALENDAR
VERSION:2.0
PRODID:-//pretix//pretix.eu//
BEGIN:VTIMEZONE
TZID:Europe/Berlin
BEGIN:STANDARD
DTSTART:20001029T040000
RRULE:FREQ=YEARLY;BYDAY=-1SU;BYMONTH=10
TZNAME:CET
TZOFFSETFROM:+0200
TZOFFSETTO:+0100
END:STANDARD
BEGIN:DAYLIGHT
DTSTART:20000326T030000
RRULE:FREQ=YEARLY;BYDAY=-1SU;BYMONTH=3
TZNAME:CEST
TZOFFSETFROM:+0100
TZOFFSETTO:+0200
END:DAYLIGHT
END:VTIMEZONE
BEGIN:VEVENT
UID:pretix-ashram-26-13-se-0@rsvp.ashram.de
DTSTART;TZID=Europe/Berlin:20260327T083000
DTEND;TZID=Europe/Berlin:20260329T133000
DESCRIPTION:Tickets: https://rsvp.ashram.de/26-13-se/\nOrganizer: Durgamayi
  Ma Ashram
DTSTAMP:20260425T131612Z
LOCATION:Ashram Brindavon\, König-Wilhelm-Str. 35\, 89073 Ulm
SUMMARY:Seva Weekend
END:VEVENT
BEGIN:VEVENT
UID:pretix-ashram-26-14-ha-0@rsvp.ashram.de
DTSTART;TZID=Europe/Berlin:20260403T180000
DTEND;TZID=Europe/Berlin:20260404T050000
DESCRIPTION:Tickets: https://rsvp.ashram.de/26-14-ha/\nAdmission: 2026-04-0
 3 17:00\nOrganizer: Durgamayi Ma Ashram
DTSTAMP:20260425T131612Z
LOCATION:Sri Neem Karoli Baba Mandir\, Nelsonallee 22\, 89231 Neu-Ulm
SUMMARY:Hanuman Jayanti
END:VEVENT
BEGIN:VEVENT
UID:pretix-ashram-26-14-os-0@rsvp.ashram.de
DTSTART;TZID=Europe/Berlin:20260405T054500
DTEND;TZID=Europe/Berlin:20260405T123000
DESCRIPTION:Tickets: https://rsvp.ashram.de/26-14-os/\nAdmission: 2026-04-0
 5 05:00\nOrganizer: Durgamayi Ma Ashram
DTSTAMP:20260425T131612Z
LOCATION:Sri Neem Karoli Baba Mandir\, Nelsonallee 22\, 89231 Neu-Ulm
SUMMARY:Easter
END:VEVENT
BEGIN:VEVENT
UID:pretix-ashram-26-16-bw-0@rsvp.ashram.de
DTSTART;TZID=Europe/Berlin:20260417T193000
DTEND;TZID=Europe/Berlin:20260419T130000
DESCRIPTION:Tickets: https://rsvp.ashram.de/26-16-bw/\nAdmission: 2026-04-1
 7 19:00\nOrganizer: Durgamayi Ma Ashram
DTSTAMP:20260425T131612Z
LOCATION:Sri Neem Karoli Baba Mandir\, Nelsonallee 22\, 89231 Neu-Ulm
SUMMARY:Bhakti Weekend
END:VEVENT
BEGIN:VEVENT
UID:pretix-ashram-26-17-se-0@rsvp.ashram.de
DTSTART;TZID=Europe/Berlin:20260424T083000
DTEND;TZID=Europe/Berlin:20260426T133000
DESCRIPTION:Tickets: https://rsvp.ashram.de/26-17-se/\nOrganizer: Durgamayi
  Ma Ashram
DTSTAMP:20260425T131612Z
LOCATION:Ashram Brindavon\, König-Wilhelm-Str. 35\, 89073 Ulm
SUMMARY:Seva Weekend
END:VEVENT
BEGIN:VEVENT
UID:pretix-ashram-26-18-ve-0@rsvp.ashram.de
DTSTART;TZID=Europe/Berlin:20260501T193000
DTEND;TZID=Europe/Berlin:20260503T130000
DESCRIPTION:Tickets: https://rsvp.ashram.de/26-18-ve/\nAdmission: 2026-05-0
 1 19:00\nOrganizer: Durgamayi Ma Ashram
DTSTAMP:20260425T131612Z
LOCATION:Sri Neem Karoli Baba Mandir\, Nelsonallee 22\, 89231 Neu-Ulm
SUMMARY:Vesakh
END:VEVENT
BEGIN:VEVENT
UID:pretix-ashram-26-20-se-0@rsvp.ashram.de
DTSTART;TZID=Europe/Berlin:20260512T083000
DTEND;TZID=Europe/Berlin:20260516T173000
DESCRIPTION:Tickets: https://rsvp.ashram.de/26-20-se/\nOrganizer: Durgamayi
  Ma Ashram
DTSTAMP:20260425T131612Z
LOCATION:Ashram Brindavon\, König-Wilhelm-Str. 35\, 89073 Ulm
SUMMARY:Seva Days
END:VEVENT
BEGIN:VEVENT
UID:pretix-ashram-26-21-re-0@rsvp.ashram.de
DTSTART;TZID=Europe/Berlin:20260522T163000
DTEND;TZID=Europe/Berlin:20260526T100000
DESCRIPTION:Tickets: https://rsvp.ashram.de/26-21-re/\nOrganizer: Durgamayi
  Ma Ashram
DTSTAMP:20260425T131612Z
LOCATION:Ashram Brindavon\, König-Wilhelm-Str. 35\, 89073 Ulm
SUMMARY:Retreat for Devotees of Ma
END:VEVENT
BEGIN:VEVENT
UID:pretix-ashram-26-23-bw-0@rsvp.ashram.de
DTSTART;TZID=Europe/Berlin:20260605T193000
DTEND;TZID=Europe/Berlin:20260607T130000
DESCRIPTION:Tickets: https://rsvp.ashram.de/26-23-bw/\nAdmission: 2026-06-0
 5 19:00\nOrganizer: Durgamayi Ma Ashram
DTSTAMP:20260425T131612Z
LOCATION:Sri Neem Karoli Baba Mandir\, Nelsonallee 22\, 89231 Neu-Ulm
SUMMARY:Bhakti Weekend
END:VEVENT
BEGIN:VEVENT
UID:pretix-ashram-26-25-se-0@rsvp.ashram.de
DTSTART;TZID=Europe/Berlin:20260618T083000
DTEND;TZID=Europe/Berlin:20260630T173000
DESCRIPTION:Tickets: https://rsvp.ashram.de/26-25-se/\nOrganizer: Durgamayi
  Ma Ashram
DTSTAMP:20260425T131612Z
LOCATION:Ashram Brindavon\, König-Wilhelm-Str. 35\, 89073 Ulm
SUMMARY:Seva Days
END:VEVENT
BEGIN:VEVENT
UID:pretix-ashram-26-26-ta-0@rsvp.ashram.de
DTSTART;TZID=Europe/Berlin:20260628T110000
DTEND;TZID=Europe/Berlin:20260628T180000
DESCRIPTION:Tickets: https://rsvp.ashram.de/26-26-ta/\nOrganizer: Durgamayi
  Ma Ashram
DTSTAMP:20260425T131612Z
LOCATION:Durgamayi Ma Ashram e.V.\, König-Wilhelm-Str. 35\, 89073 Ulm
SUMMARY:Open House Day at Brindavon Ashram Ulm
END:VEVENT
BEGIN:VEVENT
UID:pretix-ashram-26-28-bw-0@rsvp.ashram.de
DTSTART;TZID=Europe/Berlin:20260710T193000
DTEND;TZID=Europe/Berlin:20260712T130000
DESCRIPTION:Tickets: https://rsvp.ashram.de/26-28-bw/\nAdmission: 2026-07-1
 0 19:00\nOrganizer: Durgamayi Ma Ashram
DTSTAMP:20260425T131612Z
LOCATION:Sri Neem Karoli Baba Mandir\, Nelsonallee 22\, 89231 Neu-Ulm
SUMMARY:Bhakti Weekend
END:VEVENT
BEGIN:VEVENT
UID:pretix-ashram-26-29-bw-0@rsvp.ashram.de
DTSTART;TZID=Europe/Berlin:20260717T193000
DTEND;TZID=Europe/Berlin:20260719T130000
DESCRIPTION:Tickets: https://rsvp.ashram.de/26-29-bw/\nAdmission: 2026-07-1
 7 19:00\nOrganizer: Durgamayi Ma Ashram
DTSTAMP:20260425T131612Z
LOCATION:Sri Neem Karoli Baba Mandir\, Nelsonallee 22\, 89231 Neu-Ulm
SUMMARY:Bhakti Weekend
END:VEVENT
BEGIN:VEVENT
UID:pretix-ashram-26-30-se-0@rsvp.ashram.de
DTSTART;TZID=Europe/Berlin:20260724T083000
DTEND;TZID=Europe/Berlin:20260726T133000
DESCRIPTION:Tickets: https://rsvp.ashram.de/26-30-se/\nOrganizer: Durgamayi
  Ma Ashram
DTSTAMP:20260425T131612Z
LOCATION:Ashram Brindavon\, König-Wilhelm-Str. 35\, 89073 Ulm
SUMMARY:Seva Weekend
END:VEVENT
BEGIN:VEVENT
UID:pretix-ashram-26-31-gu-0@rsvp.ashram.de
DTSTART;TZID=Europe/Berlin:20260731T193000
DTEND;TZID=Europe/Berlin:20260802T130000
DESCRIPTION:Tickets: https://rsvp.ashram.de/26-31-gu/\nAdmission: 2026-07-3
 1 19:00\nOrganizer: Durgamayi Ma Ashram
DTSTAMP:20260425T131612Z
LOCATION:Sri Neem Karoli Baba Mandir\, Nelsonallee 22\, 89231 Neu-Ulm
SUMMARY:Guru Purnima
END:VEVENT
BEGIN:VEVENT
UID:pretix-ashram-abende-4835253@rsvp.ashram.de
DTSTART;TZID=Europe/Berlin:20260327T193000
DTEND;TZID=Europe/Berlin:20260327T210000
DESCRIPTION:Tickets: https://rsvp.ashram.de/abende/4835253/\nAdmission: 202
 6-03-27 19:00\nOrganizer: Durgamayi Ma Ashram
DTSTAMP:20260425T131612Z
LOCATION:Sri Neem Karoli Baba Mandir\, Nelsonallee 22\, 89231 Neu-Ulm
SUMMARY:Kirtan & Aarti
END:VEVENT
BEGIN:VEVENT
UID:pretix-ashram-abende-4817612@rsvp.ashram.de
DTSTART;TZID=Europe/Berlin:20260331T193000
DTEND;TZID=Europe/Berlin:20260331T210000
DESCRIPTION:Tickets: https://rsvp.ashram.de/abende/4817612/\nAdmission: 202
 6-03-31 19:00\nOrganizer: Durgamayi Ma Ashram
DTSTAMP:20260425T131612Z
LOCATION:Sri Neem Karoli Baba Mandir\, Nelsonallee 22\, 89231 Neu-Ulm
SUMMARY:Hanuman Chalisa & Aarti
END:VEVENT
BEGIN:VEVENT
UID:pretix-ashram-abende-4817613@rsvp.ashram.de
DTSTART;TZID=Europe/Berlin:20260407T193000
DTEND;TZID=Europe/Berlin:20260407T210000
DESCRIPTION:Tickets: https://rsvp.ashram.de/abende/4817613/\nAdmission: 202
 6-04-07 19:00\nOrganizer: Durgamayi Ma Ashram
DTSTAMP:20260425T131612Z
LOCATION:Sri Neem Karoli Baba Mandir\, Nelsonallee 22\, 89231 Neu-Ulm
SUMMARY:Hanuman Chalisa & Aarti
END:VEVENT
BEGIN:VEVENT
UID:pretix-ashram-abende-4835267@rsvp.ashram.de
DTSTART;TZID=Europe/Berlin:20260410T193000
DTEND;TZID=Europe/Berlin:20260410T210000
DESCRIPTION:Tickets: https://rsvp.ashram.de/abende/4835267/\nAdmission: 202
 6-04-10 19:00\nOrganizer: Durgamayi Ma Ashram
DTSTAMP:20260425T131612Z
LOCATION:Sri Neem Karoli Baba Mandir\, Nelsonallee 22\, 89231 Neu-Ulm
SUMMARY:Kirtan & Aarti
END:VEVENT
BEGIN:VEVENT
UID:pretix-ashram-abende-4817614@rsvp.ashram.de
DTSTART;TZID=Europe/Berlin:20260414T193000
DTEND;TZID=Europe/Berlin:20260414T210000
DESCRIPTION:Tickets: https://rsvp.ashram.de/abende/4817614/\nAdmission: 202
 6-04-14 19:00\nOrganizer: Durgamayi Ma Ashram
DTSTAMP:20260425T131612Z
LOCATION:Sri Neem Karoli Baba Mandir\, Nelsonallee 22\, 89231 Neu-Ulm
SUMMARY:Hanuman Chalisa & Aarti
END:VEVENT
BEGIN:VEVENT
UID:pretix-ashram-abende-4817615@rsvp.ashram.de
DTSTART;TZID=Europe/Berlin:20260421T193000
DTEND;TZID=Europe/Berlin:20260421T210000
DESCRIPTION:Tickets: https://rsvp.ashram.de/abende/4817615/\nAdmission: 202
 6-04-21 19:00\nOrganizer: Durgamayi Ma Ashram
DTSTAMP:20260425T131612Z
LOCATION:Sri Neem Karoli Baba Mandir\, Nelsonallee 22\, 89231 Neu-Ulm
SUMMARY:Hanuman Chalisa & Aarti
END:VEVENT
BEGIN:VEVENT
UID:pretix-ashram-abende-4835254@rsvp.ashram.de
DTSTART;TZID=Europe/Berlin:20260424T193000
DTEND;TZID=Europe/Berlin:20260424T210000
DESCRIPTION:Tickets: https://rsvp.ashram.de/abende/4835254/\nAdmission: 202
 6-04-24 19:00\nOrganizer: Durgamayi Ma Ashram
DTSTAMP:20260425T131612Z
LOCATION:Sri Neem Karoli Baba Mandir\, Nelsonallee 22\, 89231 Neu-Ulm
SUMMARY:Kirtan & Aarti
END:VEVENT
BEGIN:VEVENT
UID:pretix-ashram-abende-4817616@rsvp.ashram.de
DTSTART;TZID=Europe/Berlin:20260428T193000
DTEND;TZID=Europe/Berlin:20260428T210000
DESCRIPTION:Tickets: https://rsvp.ashram.de/abende/4817616/\nAdmission: 202
 6-04-28 19:00\nOrganizer: Durgamayi Ma Ashram
DTSTAMP:20260425T131612Z
LOCATION:Sri Neem Karoli Baba Mandir\, Nelsonallee 22\, 89231 Neu-Ulm
SUMMARY:Hanuman Chalisa & Aarti
END:VEVENT
BEGIN:VEVENT
UID:pretix-ashram-abende-4817617@rsvp.ashram.de
DTSTART;TZID=Europe/Berlin:20260505T193000
DTEND;TZID=Europe/Berlin:20260505T210000
DESCRIPTION:Tickets: https://rsvp.ashram.de/abende/4817617/\nAdmission: 202
 6-05-05 19:00\nOrganizer: Durgamayi Ma Ashram
DTSTAMP:20260425T131612Z
LOCATION:Sri Neem Karoli Baba Mandir\, Nelsonallee 22\, 89231 Neu-Ulm
SUMMARY:Hanuman Chalisa & Aarti
END:VEVENT
BEGIN:VEVENT
UID:pretix-ashram-abende-4817618@rsvp.ashram.de
DTSTART;TZID=Europe/Berlin:20260512T193000
DTEND;TZID=Europe/Berlin:20260512T210000
DESCRIPTION:Tickets: https://rsvp.ashram.de/abende/4817618/\nAdmission: 202
 6-05-12 19:00\nOrganizer: Durgamayi Ma Ashram
DTSTAMP:20260425T131612Z
LOCATION:Sri Neem Karoli Baba Mandir\, Nelsonallee 22\, 89231 Neu-Ulm
SUMMARY:Hanuman Chalisa & Aarti
END:VEVENT
BEGIN:VEVENT
UID:pretix-ashram-abende-4835255@rsvp.ashram.de
DTSTART;TZID=Europe/Berlin:20260515T193000
DTEND;TZID=Europe/Berlin:20260515T210000
DESCRIPTION:Tickets: https://rsvp.ashram.de/abende/4835255/\nAdmission: 202
 6-05-15 19:00\nOrganizer: Durgamayi Ma Ashram
DTSTAMP:20260425T131612Z
LOCATION:Sri Neem Karoli Baba Mandir\, Nelsonallee 22\, 89231 Neu-Ulm
SUMMARY:Kirtan & Aarti
END:VEVENT
BEGIN:VEVENT
UID:pretix-ashram-abende-4817619@rsvp.ashram.de
DTSTART;TZID=Europe/Berlin:20260519T193000
DTEND;TZID=Europe/Berlin:20260519T210000
DESCRIPTION:Tickets: https://rsvp.ashram.de/abende/4817619/\nAdmission: 202
 6-05-19 19:00\nOrganizer: Durgamayi Ma Ashram
DTSTAMP:20260425T131612Z
LOCATION:Sri Neem Karoli Baba Mandir\, Nelsonallee 22\, 89231 Neu-Ulm
SUMMARY:Hanuman Chalisa & Aarti
END:VEVENT
BEGIN:VEVENT
UID:pretix-ashram-abende-4817620@rsvp.ashram.de
DTSTART;TZID=Europe/Berlin:20260526T193000
DTEND;TZID=Europe/Berlin:20260526T210000
DESCRIPTION:Tickets: https://rsvp.ashram.de/abende/4817620/\nAdmission: 202
 6-05-26 19:00\nOrganizer: Durgamayi Ma Ashram
DTSTAMP:20260425T131612Z
LOCATION:Sri Neem Karoli Baba Mandir\, Nelsonallee 22\, 89231 Neu-Ulm
SUMMARY:Hanuman Chalisa & Aarti
END:VEVENT
BEGIN:VEVENT
UID:pretix-ashram-abende-4835268@rsvp.ashram.de
DTSTART;TZID=Europe/Berlin:20260529T193000
DTEND;TZID=Europe/Berlin:20260529T210000
DESCRIPTION:Tickets: https://rsvp.ashram.de/abende/4835268/\nAdmission: 202
 6-05-29 19:00\nOrganizer: Durgamayi Ma Ashram
DTSTAMP:20260425T131612Z
LOCATION:Sri Neem Karoli Baba Mandir\, Nelsonallee 22\, 89231 Neu-Ulm
SUMMARY:Kirtan & Aarti
END:VEVENT
BEGIN:VEVENT
UID:pretix-ashram-abende-4817621@rsvp.ashram.de
DTSTART;TZID=Europe/Berlin:20260602T193000
DTEND;TZID=Europe/Berlin:20260602T210000
DESCRIPTION:Tickets: https://rsvp.ashram.de/abende/4817621/\nAdmission: 202
 6-06-02 19:00\nOrganizer: Durgamayi Ma Ashram
DTSTAMP:20260425T131612Z
LOCATION:Sri Neem Karoli Baba Mandir\, Nelsonallee 22\, 89231 Neu-Ulm
SUMMARY:Hanuman Chalisa & Aarti
END:VEVENT
BEGIN:VEVENT
UID:pretix-ashram-abende-4817622@rsvp.ashram.de
DTSTART;TZID=Europe/Berlin:20260609T193000
DTEND;TZID=Europe/Berlin:20260609T210000
DESCRIPTION:Tickets: https://rsvp.ashram.de/abende/4817622/\nAdmission: 202
 6-06-09 19:00\nOrganizer: Durgamayi Ma Ashram
DTSTAMP:20260425T131612Z
LOCATION:Sri Neem Karoli Baba Mandir\, Nelsonallee 22\, 89231 Neu-Ulm
SUMMARY:Hanuman Chalisa & Aarti
END:VEVENT
BEGIN:VEVENT
UID:pretix-ashram-abende-4835269@rsvp.ashram.de
DTSTART;TZID=Europe/Berlin:20260612T193000
DTEND;TZID=Europe/Berlin:20260612T210000
DESCRIPTION:Tickets: https://rsvp.ashram.de/abende/4835269/\nAdmission: 202
 6-06-12 19:00\nOrganizer: Durgamayi Ma Ashram
DTSTAMP:20260425T131612Z
LOCATION:Sri Neem Karoli Baba Mandir\, Nelsonallee 22\, 89231 Neu-Ulm
SUMMARY:Kirtan & Aarti
END:VEVENT
BEGIN:VEVENT
UID:pretix-ashram-abende-4817623@rsvp.ashram.de
DTSTART;TZID=Europe/Berlin:20260616T193000
DTEND;TZID=Europe/Berlin:20260616T210000
DESCRIPTION:Tickets: https://rsvp.ashram.de/abende/4817623/\nAdmission: 202
 6-06-16 19:00\nOrganizer: Durgamayi Ma Ashram
DTSTAMP:20260425T131612Z
LOCATION:Sri Neem Karoli Baba Mandir\, Nelsonallee 22\, 89231 Neu-Ulm
SUMMARY:Hanuman Chalisa & Aarti
END:VEVENT
BEGIN:VEVENT
UID:pretix-ashram-abende-4835256@rsvp.ashram.de
DTSTART;TZID=Europe/Berlin:20260619T193000
DTEND;TZID=Europe/Berlin:20260619T210000
DESCRIPTION:Tickets: https://rsvp.ashram.de/abende/4835256/\nAdmission: 202
 6-06-19 19:00\nOrganizer: Durgamayi Ma Ashram
DTSTAMP:20260425T131612Z
LOCATION:Sri Neem Karoli Baba Mandir\, Nelsonallee 22\, 89231 Neu-Ulm
SUMMARY:Kirtan & Aarti
END:VEVENT
BEGIN:VEVENT
UID:pretix-ashram-abende-4817624@rsvp.ashram.de
DTSTART;TZID=Europe/Berlin:20260623T193000
DTEND;TZID=Europe/Berlin:20260623T210000
DESCRIPTION:Tickets: https://rsvp.ashram.de/abende/4817624/\nAdmission: 202
 6-06-23 19:00\nOrganizer: Durgamayi Ma Ashram
DTSTAMP:20260425T131612Z
LOCATION:Sri Neem Karoli Baba Mandir\, Nelsonallee 22\, 89231 Neu-Ulm
SUMMARY:Hanuman Chalisa & Aarti
END:VEVENT
BEGIN:VEVENT
UID:pretix-ashram-abende-4835257@rsvp.ashram.de
DTSTART;TZID=Europe/Berlin:20260626T193000
DTEND;TZID=Europe/Berlin:20260626T210000
DESCRIPTION:Tickets: https://rsvp.ashram.de/abende/4835257/\nAdmission: 202
 6-06-26 19:00\nOrganizer: Durgamayi Ma Ashram
DTSTAMP:20260425T131612Z
LOCATION:Sri Neem Karoli Baba Mandir\, Nelsonallee 22\, 89231 Neu-Ulm
SUMMARY:Kirtan & Aarti
END:VEVENT
BEGIN:VEVENT
UID:pretix-ashram-abende-4817625@rsvp.ashram.de
DTSTART;TZID=Europe/Berlin:20260630T193000
DTEND;TZID=Europe/Berlin:20260630T210000
DESCRIPTION:Tickets: https://rsvp.ashram.de/abende/4817625/\nAdmission: 202
 6-06-30 19:00\nOrganizer: Durgamayi Ma Ashram
DTSTAMP:20260425T131612Z
LOCATION:Sri Neem Karoli Baba Mandir\, Nelsonallee 22\, 89231 Neu-Ulm
SUMMARY:Hanuman Chalisa & Aarti
END:VEVENT
BEGIN:VEVENT
UID:pretix-ashram-abende-4835270@rsvp.ashram.de
DTSTART;TZID=Europe/Berlin:20260703T193000
DTEND;TZID=Europe/Berlin:20260703T210000
DESCRIPTION:Tickets: https://rsvp.ashram.de/abende/4835270/\nAdmission: 202
 6-07-03 19:00\nOrganizer: Durgamayi Ma Ashram
DTSTAMP:20260425T131612Z
LOCATION:Sri Neem Karoli Baba Mandir\, Nelsonallee 22\, 89231 Neu-Ulm
SUMMARY:Kirtan & Aarti
END:VEVENT
BEGIN:VEVENT
UID:pretix-ashram-abende-4835258@rsvp.ashram.de
DTSTART;TZID=Europe/Berlin:20260724T193000
DTEND;TZID=Europe/Berlin:20260724T210000
DESCRIPTION:Tickets: https://rsvp.ashram.de/abende/4835258/\nAdmission: 202
 6-07-24 19:00\nOrganizer: Durgamayi Ma Ashram
DTSTAMP:20260425T131612Z
LOCATION:Sri Neem Karoli Baba Mandir\, Nelsonallee 22\, 89231 Neu-Ulm
SUMMARY:Kirtan & Aarti
END:VEVENT
END:VCALENDAR
