BEGIN:VCALENDAR
VERSION:2.0
PRODID:-//pretix//pretix.eu//
BEGIN:VTIMEZONE
TZID:Europe/Berlin
BEGIN:STANDARD
DTSTART:20001029T040000
RRULE:FREQ=YEARLY;BYDAY=-1SU;BYMONTH=10
TZNAME:CET
TZOFFSETFROM:+0200
TZOFFSETTO:+0100
END:STANDARD
BEGIN:DAYLIGHT
DTSTART:20000326T030000
RRULE:FREQ=YEARLY;BYDAY=-1SU;BYMONTH=3
TZNAME:CEST
TZOFFSETFROM:+0100
TZOFFSETTO:+0200
END:DAYLIGHT
END:VTIMEZONE
BEGIN:VEVENT
UID:pretix-ashram-26-26-ta-0@rsvp.ashram.de
DTSTART;TZID=Europe/Berlin:20260628T110000
DTEND;TZID=Europe/Berlin:20260628T180000
DESCRIPTION:Tickets: https://rsvp.ashram.de/26-26-ta/\nVeranstalter: Durgam
 ayi Ma Ashram
DTSTAMP:20260425T143958Z
LOCATION:Durgamayi Ma Ashram e.V.\, König-Wilhelm-Str. 35\, 89073 Ulm
SUMMARY:Tag der offenen Tür im Ashram Brindavon Ulm
END:VEVENT
END:VCALENDAR
