BEGIN:VCALENDAR
VERSION:2.0
PRODID:-//pretix//pretix.eu//
BEGIN:VTIMEZONE
TZID:Europe/Berlin
BEGIN:STANDARD
DTSTART:20001029T040000
RRULE:FREQ=YEARLY;BYDAY=-1SU;BYMONTH=10
TZNAME:CET
TZOFFSETFROM:+0200
TZOFFSETTO:+0100
END:STANDARD
BEGIN:DAYLIGHT
DTSTART:20000326T030000
RRULE:FREQ=YEARLY;BYDAY=-1SU;BYMONTH=3
TZNAME:CEST
TZOFFSETFROM:+0100
TZOFFSETTO:+0200
END:DAYLIGHT
END:VTIMEZONE
BEGIN:VEVENT
UID:pretix-ashram-26-21-re-0@rsvp.ashram.de
DTSTART;TZID=Europe/Berlin:20260522T163000
DTEND;TZID=Europe/Berlin:20260526T100000
DESCRIPTION:Tickets: https://rsvp.ashram.de/26-21-re/\nVeranstalter: Durgam
 ayi Ma Ashram
DTSTAMP:20260425T144732Z
LOCATION:Ashram Brindavon\, König-Wilhelm-Str. 35\, 89073 Ulm
SUMMARY:Retreat für Schüler:innen von Ma
END:VEVENT
END:VCALENDAR
