BEGIN:VCALENDAR
VERSION:2.0
PRODID:-//pretix//pretix.eu//
BEGIN:VTIMEZONE
TZID:Europe/Berlin
BEGIN:STANDARD
DTSTART:20001029T040000
RRULE:FREQ=YEARLY;BYDAY=-1SU;BYMONTH=10
TZNAME:CET
TZOFFSETFROM:+0200
TZOFFSETTO:+0100
END:STANDARD
BEGIN:DAYLIGHT
DTSTART:20000326T030000
RRULE:FREQ=YEARLY;BYDAY=-1SU;BYMONTH=3
TZNAME:CEST
TZOFFSETFROM:+0100
TZOFFSETTO:+0200
END:DAYLIGHT
END:VTIMEZONE
BEGIN:VEVENT
UID:pretix-ashram-26-18-ve-0@rsvp.ashram.de
DTSTART;TZID=Europe/Berlin:20260501T193000
DTEND;TZID=Europe/Berlin:20260503T130000
DESCRIPTION:Tickets: https://rsvp.ashram.de/26-18-ve/\nEinlass: 01.05.2026 
 19:00\nVeranstalter: Durgamayi Ma Ashram
DTSTAMP:20260425T144732Z
LOCATION:Sri Neem Karoli Baba Mandir\, Nelsonallee 22\, 89231 Neu-Ulm
SUMMARY:Vesakh
END:VEVENT
END:VCALENDAR
