BEGIN:VCALENDAR
VERSION:2.0
PRODID:-//pretix//pretix.eu//
BEGIN:VTIMEZONE
TZID:Europe/Berlin
BEGIN:STANDARD
DTSTART:20001029T040000
RRULE:FREQ=YEARLY;BYDAY=-1SU;BYMONTH=10
TZNAME:CET
TZOFFSETFROM:+0200
TZOFFSETTO:+0100
END:STANDARD
BEGIN:DAYLIGHT
DTSTART:20000326T030000
RRULE:FREQ=YEARLY;BYDAY=-1SU;BYMONTH=3
TZNAME:CEST
TZOFFSETFROM:+0100
TZOFFSETTO:+0200
END:DAYLIGHT
END:VTIMEZONE
BEGIN:VEVENT
UID:pretix-ashram-25-28-gu-0@rsvp.ashram.de
DTSTART;TZID=Europe/Berlin:20250711T193000
DTEND;TZID=Europe/Berlin:20250713T130000
DESCRIPTION:Tickets: https://rsvp.ashram.de/25-28-gu/\nEinlass: 11.07.2025 
 19:00\nVeranstalter: Durgamayi Ma Ashram
DTSTAMP:20260424T035444Z
LOCATION:Sri Neem Karoli Baba Mandir\, Nelsonallee 22\, 89231 Neu-Ulm
SUMMARY:Guru Purnima
END:VEVENT
END:VCALENDAR
